BEGIN:VCALENDAR
VERSION:2.0
PRODID:icalendar-ruby
CALSCALE:GREGORIAN
METHOD:PUBLISH
BEGIN:VEVENT
DTSTAMP:20260422T153622Z
UID:430-157850@salade.tithelysetup5.com
DTSTART:20260927T180000Z
DTEND:20260927T203000Z
CLASS:PUBLIC
CREATED:20260422T074151
DESCRIPTION:"Te invitamos a vivir un tiempo especial de adoración\, oraci
 ón y enseñanza bíblica en un ambiente familiar y lleno del Espíritu Sa
 nto. Aquí podrás conocer más de Dios\, recibir ánimo para tu vida y fo
 rmar parte de una comunidad que te ama y te apoya."
LAST-MODIFIED:20260422T074151
LOCATION:1031 San Leandro Blvd. San Leandro\, CA 94577
SUMMARY:Servicio Dominical 
URL;VALUE=URI:https://salade.tithelysetup5.com/events/servicio-dominical/20
 26-09-27
END:VEVENT
END:VCALENDAR
