BEGIN:VCALENDAR
VERSION:2.0
PRODID:icalendar-ruby
CALSCALE:GREGORIAN
METHOD:PUBLISH
BEGIN:VEVENT
DTSTAMP:20260422T094843Z
UID:501-157694@salade.tithelysetup5.com
DTSTART:20260818T020000Z
DTEND:20261027T020000Z
CLASS:PUBLIC
CREATED:20260421T174340
DESCRIPTION:\n\n\n\n\n\n\n\n\n\n\n\n\nRaíces Profundas | SDO\nFormación y
  Discipulado Integral\nRaíces Profundas es un programa de formación espi
 ritual diseñado para creyentes que desean crecer en intimidad con Dios\, 
 afirmarse en su identidad en Cristo y vivir una vida cristiana madura\, re
 staurada y con propósito.\nA través de enseñanza bíblica\, acompañami
 ento y comunidad\, el programa forma discípulos con fundamentos sólidos 
 en la Palabra de Dios\, promoviendo la sanidad interior\, el discipulado p
 ráctico y una fe activa que impacta todas las áreas de la vida.\nDetalle
 s clave del programa:\n\n\nInicio de clases: 2 de febrero\n\n\nDuración: 
 11 semanas\n\n\nHorario: Lunes de 7:00 PM a 9:00 PM\n\n\nModalidad: Presen
 cial y en línea\n\n\nIdioma: Español\n\n\nCosto del programa:\n\n\nInscr
 ipción: $50\n\n\nManual de estudio: $20\n\n\nBiblia requerida: Nueva Vers
 ión Internacional (NVI)\n\n\nLos pagos deben completarse a más tardar el
  25 de enero.Los métodos de pago disponibles serán los habilitados por S
 DO al momento de la inscripción.\nPara información detallada sobre el co
 ntenido del programa\, niveles\, materiales y procesos de inscripción\, c
 onsulte el documento PDF informativo disponible en esta página.\n\n\n\n\n
 \n\n\n\n\n\n\n\n
LAST-MODIFIED:20260421T174340
LOCATION:1031 San Leandro Blvd. San Leandro\, CA 94577
SUMMARY:RAICES PROFUNDAS
URL;VALUE=URI:https://salade.tithelysetup5.com/events/raices-profundas/2026
 -08-17
ATTACH;FILENAME=Prayer-ROOM-Presentacin-1.jpg;FMTTYPE=image/jpeg:https://dq
 5pwpg1q8ru0.cloudfront.net/2026/01/16/00/48/35/dd8fcf21-489e-4a3b-9e57-0fe
 7b55b7345/Prayer-ROOM-Presentacin-1.jpg
ATTACH;FILENAME=Raices_Profundas_SDO.pdf;FMTTYPE=application/pdf:https://dq
 5pwpg1q8ru0.cloudfront.net/2026/01/16/00/38/11/d93a9716-5d17-415b-9ea4-7e9
 6fb3369ff/Raices_Profundas_SDO.pdf
END:VEVENT
END:VCALENDAR
